BEGIN:VCALENDAR
VERSION:2.0
PRODID:-//Fondazione Italiana Diabete ETS - ECPv6.8.1//NONSGML v1.0//EN
CALSCALE:GREGORIAN
METHOD:PUBLISH
X-ORIGINAL-URL:https://fondazionediabete.org
X-WR-CALDESC:Eventi per Fondazione Italiana Diabete ETS
REFRESH-INTERVAL;VALUE=DURATION:PT1H
X-Robots-Tag:noindex
X-PUBLISHED-TTL:PT1H
BEGIN:VTIMEZONE
TZID:UTC
BEGIN:STANDARD
TZOFFSETFROM:+0000
TZOFFSETTO:+0000
TZNAME:UTC
DTSTART:20250101T000000
END:STANDARD
END:VTIMEZONE
BEGIN:VEVENT
DTSTART;VALUE=DATE:20251019
DTEND;VALUE=DATE:20251020
DTSTAMP:20260419T222844
CREATED:20250718T142540Z
LAST-MODIFIED:20250718T142710Z
UID:14340-1760832000-1760918399@fondazionediabete.org
SUMMARY:Rome Half Marathon
DESCRIPTION:Per la prima volta nella Capitale per correre insieme!\n\n\n\n\n\n\nIl percorso di 21 km\, immerso nella storia millenaria della città\, si snoda tra monumenti iconici e scenari mozzafiato\, con un arrivo indimenticabile davanti al Colosseo: un’occasione imperdibile per raccogliere fondi per la ricerca di una cura definitiva al diabete di tipo 1!
URL:https://fondazionediabete.org/evento/rome-half-marathon/
END:VEVENT
END:VCALENDAR