BEGIN:VCALENDAR
VERSION:2.0
PRODID:-//Fondazione Italiana Diabete ETS - ECPv6.8.1//NONSGML v1.0//EN
CALSCALE:GREGORIAN
METHOD:PUBLISH
X-WR-CALNAME:Fondazione Italiana Diabete ETS
X-ORIGINAL-URL:https://fondazionediabete.org
X-WR-CALDESC:Eventi per Fondazione Italiana Diabete ETS
REFRESH-INTERVAL;VALUE=DURATION:PT1H
X-Robots-Tag:noindex
X-PUBLISHED-TTL:PT1H
BEGIN:VTIMEZONE
TZID:UTC
BEGIN:STANDARD
TZOFFSETFROM:+0000
TZOFFSETTO:+0000
TZNAME:UTC
DTSTART:20240101T000000
END:STANDARD
END:VTIMEZONE
BEGIN:VEVENT
DTSTART;VALUE=DATE:20250406
DTEND;VALUE=DATE:20250407
DTSTAMP:20260420T073840
CREATED:20250107T130420Z
LAST-MODIFIED:20250107T130420Z
UID:12585-1743897600-1743983999@fondazionediabete.org
SUMMARY:Milano Marathon 2025
DESCRIPTION:Corri con FID alla Milano Marathon 2025!
URL:https://fondazionediabete.org/evento/milano-marathon-2025/
END:VEVENT
BEGIN:VEVENT
DTSTART;VALUE=DATE:20250309
DTEND;VALUE=DATE:20250310
DTSTAMP:20260420T073840
CREATED:20250107T115807Z
LAST-MODIFIED:20250107T115807Z
UID:12583-1741478400-1741564799@fondazionediabete.org
SUMMARY:Gran Fondo Strade Bianche
DESCRIPTION:Grazie alla collaborazione con RCS\, il 9 marzo 2025  FID partecipa per la prima volta alla Gran Fondo Strade Bianche\, offrendo la possibilità di acquistare “pettorali solidali” che finanziano le attività di Fondazione Italiana Diabete. Con i fondi raccolti infatti potremo eseguire lo screening per diabete di tipo 1 ad almeno 50 bambini con familiari con diabete di tipo 1 presso il Centro Fid-Innodia. L’obiettivo dello screening è evitare esordi in chetoacidosi e aiutare la ricerca a comprendere la cause della patologia. \nI pettorali a disposizione sono pochi\, prenota subito il tuo con una donazione di 250 euro CLICCA QUI. \nSe invece vuoi attivarti e lanciarti in una sfida solidale\, puoi aprire una raccolta fondi online e coinvolgere amici\, parenti e colleghi a raccogliere fondi e donare per la tua avventura! Contattaci a segreteria@fondazionediabete.org e ti spiegheremo come diventare un “personal fundraiser”!
URL:https://fondazionediabete.org/evento/gran-fondo-strade-bianche/
END:VEVENT
BEGIN:VEVENT
DTSTART;TZID=UTC:20241214T103000
DTEND;TZID=UTC:20241214T200000
DTSTAMP:20260420T073840
CREATED:20241107T123600Z
LAST-MODIFIED:20241107T123600Z
UID:11245-1734172200-1734206400@fondazionediabete.org
SUMMARY:Diabethon 2024
DESCRIPTION:
URL:https://fondazionediabete.org/evento/diabethon-2024/
END:VEVENT
BEGIN:VEVENT
DTSTART;TZID=UTC:20241116T080000
DTEND;TZID=UTC:20241117T170000
DTSTAMP:20260420T073840
CREATED:20241107T123051Z
LAST-MODIFIED:20241107T123840Z
UID:11240-1731744000-1731862800@fondazionediabete.org
SUMMARY:Banchetti per la Ricerca
DESCRIPTION:50 banchetti in tutta Italia per raccogliere fondi per la ricerca di una cura definitiva al diabete di tipo 1! Trova quello più vicino a te! \nFID scende in piazza per la Giornata Mondiale del Diabete
URL:https://fondazionediabete.org/evento/banchetti-per-la-ricerca/
END:VEVENT
BEGIN:VEVENT
DTSTART;VALUE=DATE:20241114
DTEND;VALUE=DATE:20241115
DTSTAMP:20260420T073840
CREATED:20241106T120929Z
LAST-MODIFIED:20241106T120929Z
UID:11234-1731542400-1731628799@fondazionediabete.org
SUMMARY:Giornata Mondiale del Diabete
DESCRIPTION:Il 14 novembre si celebra la GIORNATA MONDIALE DEL DIABETE
URL:https://fondazionediabete.org/evento/giornata-mondiale-del-diabete/
END:VEVENT
BEGIN:VEVENT
DTSTART;TZID=UTC:20241113T203000
DTEND;TZID=UTC:20241113T233000
DTSTAMP:20260420T073840
CREATED:20241107T123302Z
LAST-MODIFIED:20241107T123451Z
UID:11242-1731529800-1731540600@fondazionediabete.org
SUMMARY:Concerto Momo's Band per FID e Adiuvare
DESCRIPTION:13 NOVEMBRE ORE 20.30\nTeatro Delle Arti a Gallarate\n Super concerto della Mamo’s Band il cui ricavato andrà in beneficenza a Fondazione Italiana Diabete ETS e ad Adiuvare – Associazione Diabetici Uniti Varese – ODV!\n\n\nMa… ecco la prima sorpresa! Massimo Ambrosini\, ex stella del Milan\, metterà all’asta la sua maglia autografata per sostenere la ricerca della cura definitiva per il diabete di tipo 1\, malattia cronica di cui soffre anche il suo bimbo Alessandro!\n\n\nVuoi aiutarci anche tu e trascorrere una serata indimenticabile\, di puro divertimento\, allegria e meravigliosa musica? Ti aspettiamo!\nPresentano Paola Magugliani e Marco Linari.\nENTRATA A OFFERTA LIBERA!\nPRENOTA IL TUO POSTO\ncontattando il nr. 334 9209644 via whatsapp.\n\n\nInfo qui\nhttps://adiuvare.it/concerto-per-adiuvare-13-novembre…/
URL:https://fondazionediabete.org/evento/concerto-momos-band-per-fid-e-adiuvare/
LOCATION:Teatro delle Arti\, Gallarate
END:VEVENT
BEGIN:VEVENT
DTSTART;TZID=UTC:20241110T183000
DTEND;TZID=UTC:20241110T193000
DTSTAMP:20260420T073840
CREATED:20241107T124203Z
LAST-MODIFIED:20241107T124203Z
UID:11249-1731263400-1731267000@fondazionediabete.org
SUMMARY:Domenica della Ricerca
DESCRIPTION:Donna cinese curata dal diabete di tipo 1\, studio con le staminali in fase 3\, trapianti di isole e di staminali in italia\, immunoterapie per prevenire il diabete di tipo 1: facciamo chiarezza e diamo informazioni vere DOMENICA 10 NOVEMBRE dalle 18\,30 in DIRETTA su Facebook\, Instagram e YouTube di FID.\nSaranno con noi:– la Dottoressa Valeria Sordi\, del Diabetes Research Institute del San Raffaele di Milano\, unica struttura italiana che fa trapianti di isole con le staminali di Vertex\, che ci darà tutti gli aggiornamenti sui trapianti di isole e sui trapianti con cellule staminali\n– e il professor Roberto Mallone\, immunologo di fama internazionale dell’INSERM (Istituto Nazionale della Sanità e della Ricerca Medica) di Parigi\, che ci racconterà le tante terapie in studio per bloccare o rallentare l’esordio del diabete di tipo 1 e tutte le novità emerse dal Congresso IDS (Immunology of Diabetes Society) in corso a Bruges e a cui FID sta partecipando.\nSpecialissima domenica della Ricerca per la Giornata Mondiale del Diabete! ore 18\,30 di domenica 10 novembre: per non perderla basta scegliere parteciperò e in automatico verrete avvertiti dell’inizio della diretta.
URL:https://fondazionediabete.org/evento/domenica-della-ricerca/
END:VEVENT
END:VCALENDAR